Package: pepStat Version: 1.41.0 Command: /home/biocbuild/bbs-3.21-bioc/R/bin/R CMD check --install=check:pepStat.install-out.txt --library=/home/biocbuild/bbs-3.21-bioc/R/site-library --timings pepStat_1.41.0.tar.gz StartedAt: 2025-02-10 01:15:11 -0500 (Mon, 10 Feb 2025) EndedAt: 2025-02-10 01:17:53 -0500 (Mon, 10 Feb 2025) EllapsedTime: 162.3 seconds RetCode: 0 Status: OK CheckDir: pepStat.Rcheck Warnings: 0