Package: pepStat Version: 1.41.0 Command: rm -rf pepStat.buildbin-libdir && mkdir pepStat.buildbin-libdir && E:\biocbuild\bbs-3.21-bioc\R\bin\R.exe CMD INSTALL --build --library=pepStat.buildbin-libdir pepStat_1.41.0.tar.gz StartedAt: 2025-02-05 08:34:06 -0500 (Wed, 05 Feb 2025) EndedAt: 2025-02-05 08:34:58 -0500 (Wed, 05 Feb 2025) EllapsedTime: 51.4 seconds RetCode: 0 Status: OK PackageFile: pepStat_1.41.0.zip PackageFileSize: 717.3 KiB