Package: pepStat Version: 1.41.0 Command: chmod a+r pepStat -R && E:\biocbuild\bbs-3.21-bioc\R\bin\R.exe CMD build --keep-empty-dirs --no-resave-data pepStat StartedAt: 2025-02-09 20:41:46 -0500 (Sun, 09 Feb 2025) EndedAt: 2025-02-09 20:42:50 -0500 (Sun, 09 Feb 2025) EllapsedTime: 63.8 seconds RetCode: 0 Status: OK PackageFile: pepStat_1.41.0.tar.gz PackageFileSize: 297.2 KiB