Package: pepStat Version: 1.41.0 Command: E:\biocbuild\bbs-3.21-bioc\R\bin\R.exe CMD INSTALL pepStat StartedAt: 2025-02-04 15:51:01 -0500 (Tue, 04 Feb 2025) EndedAt: 2025-02-04 15:51:50 -0500 (Tue, 04 Feb 2025) EllapsedTime: 48.6 seconds RetCode: 0 Status: OK