Package: pepXMLTab Version: 1.41.0 Command: rm -rf pepXMLTab.buildbin-libdir && mkdir pepXMLTab.buildbin-libdir && /Users/biocbuild/BBS/utils/build-universal.sh pepXMLTab_1.41.0.tar.gz /Library/Frameworks/R.framework/Resources/bin/R pepXMLTab.buildbin-libdir StartedAt: 2025-02-13 00:50:38 -0500 (Thu, 13 Feb 2025) EndedAt: 2025-02-13 00:50:43 -0500 (Thu, 13 Feb 2025) EllapsedTime: 4.6 seconds RetCode: 0 Status: OK PackageFile: pepXMLTab_1.41.0.tgz PackageFileSize: 206.4 KiB