Package: pepXMLTab Version: 1.41.0 Command: /Library/Frameworks/R.framework/Resources/bin/R CMD build --keep-empty-dirs --no-resave-data pepXMLTab StartedAt: 2025-02-09 17:56:05 -0500 (Sun, 09 Feb 2025) EndedAt: 2025-02-09 17:56:19 -0500 (Sun, 09 Feb 2025) EllapsedTime: 13.7 seconds RetCode: 0 Status: OK PackageFile: pepXMLTab_1.41.0.tar.gz PackageFileSize: 187.8 KiB