Package: pepXMLTab Version: 1.41.0 Command: /home/biocbuild/bbs-3.21-bioc/R/bin/R CMD check --install=check:pepXMLTab.install-out.txt --library=/home/biocbuild/bbs-3.21-bioc/R/site-library --timings pepXMLTab_1.41.0.tar.gz StartedAt: 2025-02-13 01:15:52 -0500 (Thu, 13 Feb 2025) EndedAt: 2025-02-13 01:16:17 -0500 (Thu, 13 Feb 2025) EllapsedTime: 25.0 seconds RetCode: 0 Status: OK CheckDir: pepXMLTab.Rcheck Warnings: 0