Package: periodicDNA Version: 1.17.0 Maintainer: Jacques Serizay MaintainerEmail: jacquesserizay at gmail.com git_url: https://git.bioconductor.org/packages/periodicDNA git_branch: devel git_last_commit: 75b48a6 git_last_commit_date: 2024-10-29 10:50:05 -0500 (Tue, 29 Oct 2024)