Package: periodicDNA Version: 1.17.0 Command: /Library/Frameworks/R.framework/Resources/bin/R CMD INSTALL periodicDNA StartedAt: 2025-02-12 15:13:54 -0500 (Wed, 12 Feb 2025) EndedAt: 2025-02-12 15:14:08 -0500 (Wed, 12 Feb 2025) EllapsedTime: 14.0 seconds RetCode: 0 Status: OK