Package: periodicDNA Version: 1.17.0 Command: /home/biocbuild/R/R/bin/R CMD build --keep-empty-dirs --no-resave-data periodicDNA StartedAt: 2025-01-29 01:15:24 -0000 (Wed, 29 Jan 2025) EndedAt: 2025-01-29 01:17:31 -0000 (Wed, 29 Jan 2025) EllapsedTime: 127.1 seconds RetCode: 0 Status: OK PackageFile: periodicDNA_1.17.0.tar.gz PackageFileSize: 2.895 MiB