Package: periodicDNA Version: 1.17.0 Command: /Library/Frameworks/R.framework/Resources/bin/R CMD INSTALL periodicDNA StartedAt: 2025-02-09 15:23:16 -0500 (Sun, 09 Feb 2025) EndedAt: 2025-02-09 15:24:04 -0500 (Sun, 09 Feb 2025) EllapsedTime: 47.8 seconds RetCode: 0 Status: OK