Package: periodicDNA Version: 1.17.0 Command: rm -rf periodicDNA.buildbin-libdir && mkdir periodicDNA.buildbin-libdir && E:\biocbuild\bbs-3.21-bioc\R\bin\R.exe CMD INSTALL --build --library=periodicDNA.buildbin-libdir periodicDNA_1.17.0.tar.gz StartedAt: 2025-02-05 08:34:19 -0500 (Wed, 05 Feb 2025) EndedAt: 2025-02-05 08:35:10 -0500 (Wed, 05 Feb 2025) EllapsedTime: 51.1 seconds RetCode: 0 Status: OK PackageFile: periodicDNA_1.17.0.zip PackageFileSize: 2.961 MiB