Package: periodicDNA Version: 1.17.0 Command: chmod a+r periodicDNA -R && E:\biocbuild\bbs-3.21-bioc\R\bin\R.exe CMD build --keep-empty-dirs --no-resave-data periodicDNA StartedAt: 2025-02-04 20:44:55 -0500 (Tue, 04 Feb 2025) EndedAt: 2025-02-04 20:47:35 -0500 (Tue, 04 Feb 2025) EllapsedTime: 159.9 seconds RetCode: 0 Status: OK PackageFile: periodicDNA_1.17.0.tar.gz PackageFileSize: 2.864 MiB