Package: pfamAnalyzeR Version: 1.7.0 Command: /Library/Frameworks/R.framework/Resources/bin/R CMD build --keep-empty-dirs --no-resave-data pfamAnalyzeR StartedAt: 2025-02-04 17:14:42 -0500 (Tue, 04 Feb 2025) EndedAt: 2025-02-04 17:14:46 -0500 (Tue, 04 Feb 2025) EllapsedTime: 4.1 seconds RetCode: 0 Status: OK PackageFile: pfamAnalyzeR_1.7.0.tar.gz PackageFileSize: 351.8 KiB