Package: pfamAnalyzeR Version: 1.7.0 Command: /Library/Frameworks/R.framework/Resources/bin/R CMD INSTALL pfamAnalyzeR StartedAt: 2025-02-04 15:03:24 -0500 (Tue, 04 Feb 2025) EndedAt: 2025-02-04 15:03:27 -0500 (Tue, 04 Feb 2025) EllapsedTime: 2.7 seconds RetCode: 0 Status: OK