Package: pfamAnalyzeR Version: 1.7.0 Command: E:\biocbuild\bbs-3.21-bioc\R\bin\R.exe CMD INSTALL pfamAnalyzeR StartedAt: 2025-02-09 15:27:48 -0500 (Sun, 09 Feb 2025) EndedAt: 2025-02-09 15:27:59 -0500 (Sun, 09 Feb 2025) EllapsedTime: 10.8 seconds RetCode: 0 Status: OK