Package: pgca Version: 1.31.0 Command: rm -rf pgca.buildbin-libdir && mkdir pgca.buildbin-libdir && /Users/biocbuild/BBS/utils/build-universal.sh pgca_1.31.0.tar.gz /Library/Frameworks/R.framework/Resources/bin/R pgca.buildbin-libdir StartedAt: 2025-02-09 22:25:02 -0500 (Sun, 09 Feb 2025) EndedAt: 2025-02-09 22:25:04 -0500 (Sun, 09 Feb 2025) EllapsedTime: 2.0 seconds RetCode: 0 Status: OK PackageFile: pgca_1.31.0.tgz PackageFileSize: 144.2 KiB