Package: pgca Version: 1.31.0 Command: /Library/Frameworks/R.framework/Resources/bin/R CMD INSTALL pgca StartedAt: 2025-02-09 15:01:38 -0500 (Sun, 09 Feb 2025) EndedAt: 2025-02-09 15:01:43 -0500 (Sun, 09 Feb 2025) EllapsedTime: 5.5 seconds RetCode: 0 Status: OK