Package: pgca Version: 1.31.0 Command: /Library/Frameworks/R.framework/Resources/bin/R CMD check --install=check:pgca.install-out.txt --library=/Library/Frameworks/R.framework/Resources/library --no-vignettes --timings pgca_1.31.0.tar.gz StartedAt: 2025-02-09 22:38:54 -0500 (Sun, 09 Feb 2025) EndedAt: 2025-02-09 22:39:24 -0500 (Sun, 09 Feb 2025) EllapsedTime: 29.7 seconds RetCode: 0 Status: OK CheckDir: pgca.Rcheck Warnings: 0