Package: pgca Version: 1.31.0 Command: /Library/Frameworks/R.framework/Resources/bin/R CMD INSTALL pgca StartedAt: 2025-02-09 15:04:23 -0500 (Sun, 09 Feb 2025) EndedAt: 2025-02-09 15:05:04 -0500 (Sun, 09 Feb 2025) EllapsedTime: 41.1 seconds RetCode: 0 Status: OK