Package: pgca Version: 1.31.0 Command: /home/biocbuild/bbs-3.21-bioc/R/bin/R CMD check --install=check:pgca.install-out.txt --library=/home/biocbuild/bbs-3.21-bioc/R/site-library --timings pgca_1.31.0.tar.gz StartedAt: 2025-02-13 01:16:25 -0500 (Thu, 13 Feb 2025) EndedAt: 2025-02-13 01:16:44 -0500 (Thu, 13 Feb 2025) EllapsedTime: 19.0 seconds RetCode: 0 Status: OK CheckDir: pgca.Rcheck Warnings: 0