Package: pgca Version: 1.31.0 Command: E:\biocbuild\bbs-3.21-bioc\R\bin\R.exe CMD check --no-multiarch --install=check:pgca.install-out.txt --library=E:\biocbuild\bbs-3.21-bioc\R\library --no-vignettes --timings pgca_1.31.0.tar.gz StartedAt: 2025-02-10 04:02:31 -0500 (Mon, 10 Feb 2025) EndedAt: 2025-02-10 04:03:05 -0500 (Mon, 10 Feb 2025) EllapsedTime: 34.5 seconds RetCode: 0 Status: OK CheckDir: pgca.Rcheck Warnings: 0