Package: pgca Version: 1.31.0 Command: E:\biocbuild\bbs-3.21-bioc\R\bin\R.exe CMD INSTALL pgca StartedAt: 2025-02-12 15:21:36 -0500 (Wed, 12 Feb 2025) EndedAt: 2025-02-12 15:21:45 -0500 (Wed, 12 Feb 2025) EllapsedTime: 9.8 seconds RetCode: 0 Status: OK