Package: pgxRpi Version: 1.3.2 Maintainer: Hangjia Zhao MaintainerEmail: hangjia.zhao at uzh.ch git_url: https://git.bioconductor.org/packages/pgxRpi git_branch: devel git_last_commit: 2ead4cf git_last_commit_date: 2025-01-17 12:39:23 -0500 (Fri, 17 Jan 2025)