Package: pgxRpi Version: 1.3.2 Command: /Library/Frameworks/R.framework/Resources/bin/R CMD build --keep-empty-dirs --no-resave-data pgxRpi StartedAt: 2025-02-04 17:49:41 -0500 (Tue, 04 Feb 2025) EndedAt: 2025-02-04 18:04:04 -0500 (Tue, 04 Feb 2025) EllapsedTime: 863.8 seconds RetCode: 0 Status: OK PackageFile: pgxRpi_1.3.2.tar.gz PackageFileSize: 2.942 MiB