Package: pgxRpi Version: 1.3.2 Command: /Library/Frameworks/R.framework/Resources/bin/R CMD check --install=check:pgxRpi.install-out.txt --library=/Library/Frameworks/R.framework/Resources/library --no-vignettes --timings pgxRpi_1.3.2.tar.gz StartedAt: 2025-02-04 22:22:20 -0500 (Tue, 04 Feb 2025) EndedAt: 2025-02-04 22:31:31 -0500 (Tue, 04 Feb 2025) EllapsedTime: 550.6 seconds RetCode: 0 Status: OK CheckDir: pgxRpi.Rcheck Warnings: 0