Package: pgxRpi Version: 1.3.2 Command: /Library/Frameworks/R.framework/Resources/bin/R CMD INSTALL pgxRpi StartedAt: 2025-02-04 15:42:35 -0500 (Tue, 04 Feb 2025) EndedAt: 2025-02-04 15:42:39 -0500 (Tue, 04 Feb 2025) EllapsedTime: 4.8 seconds RetCode: 0 Status: OK