Package: pgxRpi Version: 1.3.2 Command: /home/biocbuild/bbs-3.21-bioc/R/bin/R CMD build --keep-empty-dirs --no-resave-data pgxRpi StartedAt: 2025-02-09 18:38:55 -0500 (Sun, 09 Feb 2025) EndedAt: 2025-02-09 18:46:35 -0500 (Sun, 09 Feb 2025) EllapsedTime: 459.7 seconds RetCode: 0 Status: OK PackageFile: pgxRpi_1.3.2.tar.gz PackageFileSize: 2.788 MiB