Package: pgxRpi Version: 1.3.2 Command: /home/biocbuild/bbs-3.21-bioc/R/bin/R CMD check --install=check:pgxRpi.install-out.txt --library=/home/biocbuild/bbs-3.21-bioc/R/site-library --timings pgxRpi_1.3.2.tar.gz StartedAt: 2025-02-10 01:16:05 -0500 (Mon, 10 Feb 2025) EndedAt: 2025-02-10 01:28:54 -0500 (Mon, 10 Feb 2025) EllapsedTime: 769.2 seconds RetCode: 0 Status: OK CheckDir: pgxRpi.Rcheck Warnings: 0