Package: phantasus Version: 1.27.0 Command: rm -rf phantasus.buildbin-libdir && mkdir phantasus.buildbin-libdir && /Users/biocbuild/BBS/utils/build-universal.sh phantasus_1.27.0.tar.gz /Library/Frameworks/R.framework/Resources/bin/R phantasus.buildbin-libdir StartedAt: 2025-02-09 22:25:03 -0500 (Sun, 09 Feb 2025) EndedAt: 2025-02-09 22:25:20 -0500 (Sun, 09 Feb 2025) EllapsedTime: 16.4 seconds RetCode: 0 Status: OK PackageFile: phantasus_1.27.0.tgz PackageFileSize: 8.35 MiB