Package: phantasus Version: 1.27.0 Command: /Library/Frameworks/R.framework/Resources/bin/R CMD build --keep-empty-dirs --no-resave-data phantasus StartedAt: 2025-02-09 17:14:32 -0500 (Sun, 09 Feb 2025) EndedAt: 2025-02-09 17:14:51 -0500 (Sun, 09 Feb 2025) EllapsedTime: 18.2 seconds RetCode: 0 Status: OK PackageFile: phantasus_1.27.0.tar.gz PackageFileSize: 9.551 MiB