Package: phantasus Version: 1.27.0 Command: /home/biocbuild/R/R/bin/R CMD build --keep-empty-dirs --no-resave-data phantasus StartedAt: 2025-01-29 01:15:35 -0000 (Wed, 29 Jan 2025) EndedAt: 2025-01-29 01:16:30 -0000 (Wed, 29 Jan 2025) EllapsedTime: 55.0 seconds RetCode: 0 Status: OK PackageFile: phantasus_1.27.0.tar.gz PackageFileSize: 9.609 MiB