Package: phantasus Version: 1.27.0 Command: /home/biocbuild/R/R/bin/R CMD check --install=check:phantasus.install-out.txt --library=/home/biocbuild/R/R/site-library --no-vignettes --timings phantasus_1.27.0.tar.gz StartedAt: 2025-01-28 13:51:37 -0000 (Tue, 28 Jan 2025) EndedAt: 2025-01-28 14:02:48 -0000 (Tue, 28 Jan 2025) EllapsedTime: 670.7 seconds RetCode: 1 Status: ERROR CheckDir: phantasus.Rcheck Warnings: NA