Package: phantasus Version: 1.27.0 Command: /home/biocbuild/R/R/bin/R CMD INSTALL phantasus StartedAt: 2025-01-29 20:16:19 -0000 (Wed, 29 Jan 2025) EndedAt: 2025-01-29 20:17:05 -0000 (Wed, 29 Jan 2025) EllapsedTime: 45.7 seconds RetCode: 0 Status: OK