Package: phantasus Version: 1.27.0 Command: /Library/Frameworks/R.framework/Resources/bin/R CMD check --install=check:phantasus.install-out.txt --library=/Library/Frameworks/R.framework/Resources/library --no-vignettes --timings phantasus_1.27.0.tar.gz StartedAt: 2025-02-09 22:39:14 -0500 (Sun, 09 Feb 2025) EndedAt: 2025-02-09 22:46:09 -0500 (Sun, 09 Feb 2025) EllapsedTime: 415.9 seconds RetCode: 0 Status: OK CheckDir: phantasus.Rcheck Warnings: 0