Package: phantasus Version: 1.27.0 Command: /Library/Frameworks/R.framework/Resources/bin/R CMD INSTALL phantasus StartedAt: 2025-02-09 15:32:05 -0500 (Sun, 09 Feb 2025) EndedAt: 2025-02-09 15:32:52 -0500 (Sun, 09 Feb 2025) EllapsedTime: 46.5 seconds RetCode: 0 Status: OK