Package: phantasus Version: 1.27.0 Command: /home/biocbuild/bbs-3.21-bioc/R/bin/R CMD build --keep-empty-dirs --no-resave-data phantasus StartedAt: 2025-02-09 18:38:57 -0500 (Sun, 09 Feb 2025) EndedAt: 2025-02-09 18:39:39 -0500 (Sun, 09 Feb 2025) EllapsedTime: 42.1 seconds RetCode: 0 Status: OK PackageFile: phantasus_1.27.0.tar.gz PackageFileSize: 9.551 MiB