Package: phantasus Version: 1.27.0 Command: /home/biocbuild/bbs-3.21-bioc/R/bin/R CMD INSTALL phantasus StartedAt: 2025-02-09 15:58:14 -0500 (Sun, 09 Feb 2025) EndedAt: 2025-02-09 15:58:49 -0500 (Sun, 09 Feb 2025) EllapsedTime: 34.7 seconds RetCode: 0 Status: OK