Package: phantasus Version: 1.27.0 Command: rm -rf phantasus.buildbin-libdir && mkdir phantasus.buildbin-libdir && E:\biocbuild\bbs-3.21-bioc\R\bin\R.exe CMD INSTALL --build --library=phantasus.buildbin-libdir phantasus_1.27.0.tar.gz StartedAt: 2025-02-10 08:22:19 -0500 (Mon, 10 Feb 2025) EndedAt: 2025-02-10 08:23:26 -0500 (Mon, 10 Feb 2025) EllapsedTime: 67.7 seconds RetCode: 0 Status: OK PackageFile: phantasus_1.27.0.zip PackageFileSize: 8.318 MiB