Package: phantasus Version: 1.27.0 Command: E:\biocbuild\bbs-3.21-bioc\R\bin\R.exe CMD check --no-multiarch --install=check:phantasus.install-out.txt --library=E:\biocbuild\bbs-3.21-bioc\R\library --no-vignettes --timings phantasus_1.27.0.tar.gz StartedAt: 2025-02-04 04:30:07 -0500 (Tue, 04 Feb 2025) EndedAt: 2025-02-04 04:36:38 -0500 (Tue, 04 Feb 2025) EllapsedTime: 390.6 seconds RetCode: 1 Status: ERROR CheckDir: phantasus.Rcheck Warnings: NA