Package: phantasus Version: 1.27.0 Command: E:\biocbuild\bbs-3.21-bioc\R\bin\R.exe CMD INSTALL phantasus StartedAt: 2025-02-09 16:12:50 -0500 (Sun, 09 Feb 2025) EndedAt: 2025-02-09 16:14:25 -0500 (Sun, 09 Feb 2025) EllapsedTime: 94.5 seconds RetCode: 0 Status: OK