Package: phantasusLite Version: 1.5.0 Command: rm -rf phantasusLite.buildbin-libdir && mkdir phantasusLite.buildbin-libdir && /Users/biocbuild/BBS/utils/build-universal.sh phantasusLite_1.5.0.tar.gz /Library/Frameworks/R.framework/Resources/bin/R phantasusLite.buildbin-libdir StartedAt: 2025-02-13 00:50:43 -0500 (Thu, 13 Feb 2025) EndedAt: 2025-02-13 00:51:09 -0500 (Thu, 13 Feb 2025) EllapsedTime: 25.6 seconds RetCode: 0 Status: OK PackageFile: phantasusLite_1.5.0.tgz PackageFileSize: 303.9 KiB