Package: phantasusLite Version: 1.5.0 Command: rm -rf phantasusLite.buildbin-libdir && mkdir phantasusLite.buildbin-libdir && E:\biocbuild\bbs-3.21-bioc\R\bin\R.exe CMD INSTALL --build --library=phantasusLite.buildbin-libdir phantasusLite_1.5.0.tar.gz StartedAt: 2025-02-10 08:22:20 -0500 (Mon, 10 Feb 2025) EndedAt: 2025-02-10 08:23:11 -0500 (Mon, 10 Feb 2025) EllapsedTime: 50.5 seconds RetCode: 0 Status: OK PackageFile: phantasusLite_1.5.0.zip PackageFileSize: 311.2 KiB