Package: phantasusLite Version: 1.5.0 Command: chmod a+r phantasusLite -R && E:\biocbuild\bbs-3.21-bioc\R\bin\R.exe CMD build --keep-empty-dirs --no-resave-data phantasusLite StartedAt: 2025-02-09 20:43:17 -0500 (Sun, 09 Feb 2025) EndedAt: 2025-02-09 20:44:16 -0500 (Sun, 09 Feb 2025) EllapsedTime: 59.0 seconds RetCode: 0 Status: OK PackageFile: phantasusLite_1.5.0.tar.gz PackageFileSize: 233.6 KiB