Package: phenoTest Version: 1.55.0 Command: /home/biocbuild/bbs-3.21-bioc/R/bin/R CMD build --keep-empty-dirs --no-resave-data phenoTest StartedAt: 2025-02-12 18:35:06 -0500 (Wed, 12 Feb 2025) EndedAt: 2025-02-12 18:36:00 -0500 (Wed, 12 Feb 2025) EllapsedTime: 54.1 seconds RetCode: 0 Status: OK PackageFile: phenoTest_1.55.0.tar.gz PackageFileSize: 1.273 MiB