Package: phenoTest Version: 1.55.0 Command: chmod a+r phenoTest -R && E:\biocbuild\bbs-3.21-bioc\R\bin\R.exe CMD build --keep-empty-dirs --no-resave-data phenoTest StartedAt: 2025-02-09 20:44:15 -0500 (Sun, 09 Feb 2025) EndedAt: 2025-02-09 20:45:25 -0500 (Sun, 09 Feb 2025) EllapsedTime: 70.9 seconds RetCode: 0 Status: OK PackageFile: phenoTest_1.55.0.tar.gz PackageFileSize: 1.099 MiB