Package: phenoTest Version: 1.55.0 Command: E:\biocbuild\bbs-3.21-bioc\R\bin\R.exe CMD check --no-multiarch --install=check:phenoTest.install-out.txt --library=E:\biocbuild\bbs-3.21-bioc\R\library --no-vignettes --timings phenoTest_1.55.0.tar.gz StartedAt: 2025-02-10 04:03:53 -0500 (Mon, 10 Feb 2025) EndedAt: 2025-02-10 04:07:53 -0500 (Mon, 10 Feb 2025) EllapsedTime: 240.2 seconds RetCode: 0 Status: OK CheckDir: phenoTest.Rcheck Warnings: 0