Package: phenoTest Version: 1.55.0 Command: E:\biocbuild\bbs-3.21-bioc\R\bin\R.exe CMD INSTALL phenoTest StartedAt: 2025-02-09 15:58:43 -0500 (Sun, 09 Feb 2025) EndedAt: 2025-02-09 15:59:58 -0500 (Sun, 09 Feb 2025) EllapsedTime: 75.0 seconds RetCode: 0 Status: OK