Package: phenopath Version: 1.31.0 Command: /Library/Frameworks/R.framework/Resources/bin/R CMD build --keep-empty-dirs --no-resave-data phenopath StartedAt: 2025-02-09 17:14:48 -0500 (Sun, 09 Feb 2025) EndedAt: 2025-02-09 17:15:07 -0500 (Sun, 09 Feb 2025) EllapsedTime: 19.2 seconds RetCode: 0 Status: OK PackageFile: phenopath_1.31.0.tar.gz PackageFileSize: 1.307 MiB