Package: phenopath Version: 1.31.0 Command: /Library/Frameworks/R.framework/Resources/bin/R CMD check --install=check:phenopath.install-out.txt --library=/Library/Frameworks/R.framework/Resources/library --no-vignettes --timings phenopath_1.31.0.tar.gz StartedAt: 2025-02-09 20:38:27 -0500 (Sun, 09 Feb 2025) EndedAt: 2025-02-09 20:39:33 -0500 (Sun, 09 Feb 2025) EllapsedTime: 66.7 seconds RetCode: 0 Status: OK CheckDir: phenopath.Rcheck Warnings: 0